BEGIN:VCALENDAR
VERSION:2.0
PRODID:-//NCB - ECPv6.15.18//NONSGML v1.0//EN
CALSCALE:GREGORIAN
METHOD:PUBLISH
X-WR-CALNAME:NCB
X-ORIGINAL-URL:https://www.ncb.com.na
X-WR-CALDESC:Events for NCB
REFRESH-INTERVAL;VALUE=DURATION:PT1H
X-Robots-Tag:noindex
X-PUBLISHED-TTL:PT1H
BEGIN:VTIMEZONE
TZID:UTC
BEGIN:STANDARD
TZOFFSETFROM:+0000
TZOFFSETTO:+0000
TZNAME:UTC
DTSTART:20250101T000000
END:STANDARD
END:VTIMEZONE
BEGIN:VEVENT
DTSTART;TZID=UTC:20260320T080000
DTEND;TZID=UTC:20260331T170000
DTSTAMP:20260422T091028
CREATED:20260121T122042Z
LAST-MODIFIED:20260121T122049Z
UID:4591-1773993600-1774976400@www.ncb.com.na
SUMMARY:Uranium Conference
DESCRIPTION:Uranium Conference
URL:https://www.ncb.com.na/event/uranium-conference/
LOCATION:Swakopmund Hotel and Entertainment Centre\, Swakopmund\, Swakopmund\, Namibia
END:VEVENT
END:VCALENDAR